BEGIN:VCALENDAR
VERSION:2.0
PRODID:-// - ECPv6.15.19//NONSGML v1.0//EN
CALSCALE:GREGORIAN
METHOD:PUBLISH
X-ORIGINAL-URL:https://www.bimt.lt
X-WR-CALDESC: renginiai
REFRESH-INTERVAL;VALUE=DURATION:PT1H
X-Robots-Tag:noindex
X-PUBLISHED-TTL:PT1H
BEGIN:VTIMEZONE
TZID:UTC
BEGIN:STANDARD
TZOFFSETFROM:+0000
TZOFFSETTO:+0000
TZNAME:UTC
DTSTART:20240101T000000
END:STANDARD
END:VTIMEZONE
BEGIN:VEVENT
DTSTART;TZID=UTC:20260425T070000
DTEND;TZID=UTC:20260425T070000
DTSTAMP:20260420T035011
CREATED:20250124T084558Z
LAST-MODIFIED:20260407T125121Z
UID:103-1777100400-1777100400@www.bimt.lt
SUMMARY:Ištvermės plaukimas Minijos upe
DESCRIPTION:    \nIŠTVERMĖS PLAUKIMAS BAIDARE MINIJOS UPE 2026!\n\nPriimk iššūkį ir išbandyk savo ribas! Tai ne varžybos – plauki savo tempu\, ilsiesi kada nori ir mėgaujiesi gamta \n\n ŠIŲ METŲ NAUJIENOS!• Galimybė dalyvauti su irklente (SUP) • Nauja ~20 km distancija (Aleksandravo tiltas) – puikiai tinka ir pradedantiesiems!\n\n Vieta: Kaimo turizmo sodyba Žemsodis (Mardosų kaimas\, Plungės raj.).\n Data: 2026 m. balandžio 25 d.\n Startas: 7:30–8:00\n\n Pasirink distanciją:• ~20 km (Aleksandravo tiltas) – baidarės + irklentės • ~34\,5 km (Dauginčiai) • ~60 km (Raguviškiai) • ~105 km (Dituvos tiltas) \n\n Laiko limitas – 24 val.\n\n Kaina asmeniui:• 30 € su organizatorių baidare• 15 € su savo inventoriumi\n\n Finiše – karštas maistas + parvežimas į startą\n\n Registracija:\n\nPavedimu + SMS (vardas\, pavardė\, pasirinktas inventorius\, distancija) +37063087351 \n\n\nAtvykimas:Adresas: Kaimo turizmo sodyba Žemsodis\, Mardosų kaimas\, Plungė\nKelias: Krašto kelias 166 (Plungė – Vėžaičiai)\, 7-asis km\nParkavimas: Sodybos teritorijoje esančioje aikštelėje\n\nPasiruošk iššūkiui ir susitikime Minijos upėje!\n\nNAUJIENAS SEKITE FB \n\nIŠTVERMĖS PLAUKIMO BAIDARE MINIJOS UPE NUOSTATAI 2026\nI. BENDROSIOS NUOSTATOS\n1. Renginys: Ištvermės plaukimas baidare Minijos upe (toliau – Renginys).2. Tikslas: Skatinti aktyvų laisvalaikį\, stiprinti ištvermę ir suteikti galimybę patikrinti savo fizines galimybes be konkurencijos – svarbiausia yra asmeninis iššūkis.3. Organizatorius: Asociacija „Stubrių jaunimas“.4. Renginio vieta: Kaimo turizmo sodyba Žemsodis\, Mardosų kaimas\, Plungės rajonas.5. Renginio data: 2026 m. balandžio 25 d.6. Dalyviai: Visi norintys\, sulaukę 18 metų. Dalyviai iki 18 metų gali dalyvauti tik su pilnamečiu lydinčiu asmeniu ir raštišku tėvų (globėjų) sutikimu.\nII. PLAUKIMO FORMATAS\n1. Renginys nėra varžybos – kiekvienas dalyvis plaukia savo tempu.2. Galimi maršrutai: Žemsodis- (~20 km) Aleksandravo tiltas Žemsodis – Dauginčiai (~34\,5 km) Žemsodis – Raguviškiai (~60 km) Žemsodis – Dituvos beždžionių tiltas (~105 km)3. Laiko limitas visiems atstumams: 24 valandos.\n4. Dalyviams leidžiama daryti sustojimus poilsiui pagal poreikį.5. Dalyvis privalo turėti veikiančią mobiliojo ryšio priemonę susisiekimui su organizatoriais.\nIII. DALYVIŲ REGISTRACIJA IR STARTINIS MOKESTIS\n1. Startinis mokestis: 30 € / dalyviui\, jei naudojamasi organizatorių baidare. 15 € / dalyviui\, jei plaukiama su savo baidare.2. Mokėjimas vykdomas pavedimu į asociacijos „Stubrių jaunimas“ sąskaitą: Gavėjas: Asociacija „Stubrių jaunimas“ Banko sąskaita: LT447044060008025959 Mokėjimo paskirtis: 2026-04-25 Vardenis Pavardenis3. Po apmokėjimo būtina registracija SMS žinute numeriu +37063087351 su dalyvio vardu\, pavarde ir pasirinkta baidare (vienviete ar dviviete).4. Registracija vyksta iki 2026 m. balandžio 24 d.\nIV. RENGINIO ORGANIZAVIMAS\n1. Dalyvių atvykimas: 2026 m. balandžio 25 d. iki 7:00 val. į kaimo turizmo sodybą „Žemsodis“.2. Registracija: Nuo 7:00 val.3. Startas: Nuo 7:30 iki 8:00 val. Minijos upėje prie sodybos „Žemsodis“.4. Finišas: Visi dalyviai\, pasiekę finišą\, bus vaišinami karštu maistu ir arbata. Organizatoriai pasirūpins dalyvių parvežimu iš finišo į starto vietą.5. Dalyvių\, nusprendusių baigti plaukimą anksčiau laiko\, transportavimas organizuojamas individualiai – būtina apie tai informuoti organizatorius telefonu.\nV. DALYVIŲ SAUGUMAS IR ATSAKOMYBĖ\n1. Visi dalyviai privalo dėvėti gelbėjimosi liemenes\, kurias suteikia organizatoriai arba kurias atsineša patys dalyviai.2. Dalyvis prisiima visišką atsakomybę už savo sveikatą ir fizines galimybes įveikti pasirinktą distanciją.3. Organizatoriai neatsako už dalyvių sveikatos sutrikimus\, nelaimingus atsitikimus ar inventoriaus sugadinimą plaukimo metu.4. Dalyvis sutinka laikytis organizatorių nurodymų ir bendrų elgesio taisyklių vandenyje.5. Renginio metu draudžiama: Plaukti apsvaigus nuo alkoholio ar kitų psichotropinių medžiagų. Trukdyti kitiems dalyviams. Teršti aplinką – kiekvienas dalyvis privalo pasirūpinti savo atliekomis.\nVI. INVENTORIUS\n1. Dalyviai gali naudotis organizatorių suteiktomis baidarėmis\, irklais ir gelbėjimosi liemenėmis.2. Dalyviai taip pat gali plaukti su savo baidarėmis.3. Dalyviams rekomenduojama turėti: Neperšlampamą maišą daiktams. Atsarginius drabužius ir avalynę. Žibintuvėlį ar kitą šviesos šaltinį (ypač ilgiausiam maršrutui).\nVII. ASMENS DUOMENŲ TVARKYMAS IR VIEŠINIMAS\n1. Kiekvienas varžybų dalyvis\, registruodamasis į renginį\, sutinka\, kad organizatoriai visas renginio metu padarytas nuotraukas bei filmuotą medžiagą gali laisvai ir be atskiro sutikimo naudoti rinkodaros tikslais.2. Registruodamasis į varžybas dalyvis taip pat sutinka\, kad jo rezultatas\, vardas\, pavardė\, klubas ir gimimo metai bus skelbiami rezultatų protokoluose\, internetiniuose tinklapiuose X (renginio puslapis\, jei yra/bus) ir bimt.lt.3. Dalyvių asmens duomenys bus naudojami tik su renginio organizavimu susijusiems tikslams ir nebus perduodami tretiesiems asmenims be dalyvio sutikimo.\nVIII. KITA INFORMACIJA\n1. Organizatoriai pasilieka teisę keisti nuostatus\, apie tai informuodami dalyvius.\n2. Renginio metu bus fotografuojama ir filmuojama – dalyviai sutinka\, kad jų atvaizdai gali būti naudojami viešinimo tikslais.3. Kilus klausimams\, kreiptis telefonu +37063087351.\n\nViews: 16
URL:https://www.bimt.lt/event/istvermes-plaukimas-minijos-upe/
LOCATION:Kaimo turizmo sodyba „Žemsodis”\, Mardosų k.\, Plungės r.\, Lietuva
CATEGORIES:Renginiai
ATTACH;FMTTYPE=image/png:https://www.bimt.lt/wp-content/uploads/2024/03/vaizdas_2024-04-11_155216293.png
END:VEVENT
BEGIN:VEVENT
DTSTART;TZID=UTC:20250802T150000
DTEND;TZID=UTC:20250802T210000
DTSTAMP:20260420T035011
CREATED:20250701T065206Z
LAST-MODIFIED:20250701T065305Z
UID:1183-1754146800-1754168400@www.bimt.lt
SUMMARY:Bastionų taurė 2025
DESCRIPTION:Rugpjūčio 2 d.\, Jono kalnelyje (Bastionų komplekse) vyks vienas ryškiausių vasaros sporto renginių – „Bastionų taurė 2025“. Šis dinamiškas ir vizualiai įspūdingas sporto renginys\, kvies išbandyti jėgas net keturiose sporto rungtyse! Laukiami tiek aktyvūs dalyviai\, tiek palaikymo komandos!\nRenginio programa:10:00 – Dviračių eliminatorius14:00 – Bėgimo varžybos16:00 – Baidarių sprintas17:30 – Kayak Cross varžybos\nDalyvavimas NEMOKAMAS!\n DVIRAČIŲ ELIMINATORIUS. Tai išskirtinio formato dviračių varžybos\, kur reikės taktikos\, dviračio valdymo sugebėjimų\, šalto proto ir žinoma\, greičio!Vyks kvalifikaciniai važiavimai\, kurių metu dalyviai atsirinks finaliniams važiavimams.\n Rungtyniaujama vyrų ir moterų grupėse atskirai\, taip pat berniukų ir mergaičių grupėse – iki 7 metų amžiaus.– Eliminatoriaus distancija – vyrams ir moterims 1700 m– Atskiro starto distancija – vyrams ir moterims 1700 m.– Vaikų distancija – mergaitėms ir berniukams (2018 m. ir jaunesni) ~500 m. Starto numerių atsiėmimas: 9:00–10:00 Tinkamiausias dviratis: MTB\, tačiau galima dalyvauti ir su kitokio tipo dviračiu. Greičiausi pateks į finalą ir kovos dėl prizų! Registracija: https://forms.gle/8yVsBsZUxgh2juj17\n\n BĖGIMO VARŽYBOS. Jau trečius metus bėgimo mėgėjai ir profesionalai rinksis įrodyti\, kuris šį kartą vertas “Bastionų taurės”!  Rungtyniaujama vyrų ir moterų grupėse atskirai\, taip pat jaunimo iki 16 metų amžiaus grupėse.– Pagrindinė distancija – vyrams ir moterims 1400 m.– Trumpo nuotolio distancija – merginoms ir vaikinams (2008 m. ir jaunesni) 700 m.– Mišri estafetė – 5 x 700 m (komandoje turi būti ne mažiau kaip dvi moterys). Starto numerių atsiėmimas: 9:00–14:00 Registracija: https://forms.gle/kGQn6fgMbfbNxb9P7\n\n BAIDARIŲ SPRINTAS. Išsiaiškinsime greičiausią „Bastionų taurės“ irkluotoją! Baidarių sprintas – tai klasikinė baidarių rungtis\, kur irkluotojai rungiasi\, kas greičiau įveiks paruoštą trasą. Dalyviai skirstomi į tris kategorijas: vyrai\, moterys ir vaikai iki 16 metų. Visose kategorijose bus apdovanojamos pirmos trys vietos. Dalyviai turės įveikti 200m. atstumą tiesėje arba su kliūties apiplaukimu ir grįžimu į starto vietą. Visi dalyviai irkluos vienodomis vienvietėmis baidarėmis ir vienodais irklais. Visą inventorių suteiks organizatoriai. Baidarių sprint rungtyje gali registruotis visi norintys išmėginti savo jėgas! Registracija: https://forms.gle/ZAJ1TwpwDHsHYzov9\n\n KAYAK CROSS VARŽYBOS. Klaipėdoje dar nematytas reginys\, kuris prikaustys dėmesį visų\, atėjusių pažiūrėti ir paliks nepamirštamą įspūdį visiems\, išdrįsusiems pabandyti! Rungtyniaujama vyrų ir moterų grupėse nuo 16 m. atskirai\, taip pat jaunimo iki 16 metų amžiaus grupėse bei atskiroje mėgėjų grupėje. Irkluojama kalnų upėms pritaikytais kajakais; Startas – šuolis nuo 2 m aukščio pakylos tiesiai į vandenį; Pažymėtoje vietoje – privalomas „Eskimo roll“ (apsivertimas vandenyje); Tada – manevrai tarp dviejų vartų žymų ir – lenktynės iki finišo!Varžybų metu leidžiamas kontaktas tarp dalyvių\, todėl adrenalinas garantuotas!\n Kayak CROSS atskira mėgėjų grupės rungtis – puiki proga išbandyti ekstremalų sportą kiekvienam: Ta pati įdomi ir dinamiška trasa; Specialus\, stabilesnis inventorius pradedantiesiems; Nereikės atlikti „Eskimo roll“; Dalyvauti gali visi – su patirtimi ar be jos; Inventorių suteiks organizatoriai\, tačiau jei turi savo – gali naudoti ir jį; Inventoriaus kiekis ribotas – registruokis iš anksto! Registracija: https://forms.gle/Y1muoqmtemPZfb2D9\n\nVisi dalyviai gaus atminimo medalius\, prizinių vietų laimėtojai – rėmėjų įsteigtus prizus\, o pirmos vietos laimėtojams atiteks garbinga – Klaipėdos sporto festivalio “Bastionų taurė”!\nNepraleisk progos – registruokis\, dalyvauk rungtyse ar palaikyk dalyvius ir praleisk pirmą rugpjūčio šeštadienį aktyviai! Renginys nemokamas!\nRenginį organizuoja: Klaipėdos miesto savivaldybė ir BĮ Klaipėdos lengvosios atletikos mokykla.\n  Informuojame\, jog renginio viešinimo tikslu šio renginio lankytojai gali būti fotografuojami bei filmuojami.\nNORITE DAR? Renginys vyks didžiausio mieste – Klaipėdos sporto festivalio metu\, kuris net visą mėnesį kvies į sporto renginių ciklą\, kuriame galėsite ne tik pamatyti\, bet ir sudalyvauti įvairiose sportinėse veiklose ir kituose įdomiuose užsiėmimuose! Daugiau informacijos: https://www.facebook.com/events/4211879185714857/\nViews: 16
URL:https://www.bimt.lt/event/bastionu-taure-2025/
LOCATION:Jono Kalnelis\, Turgaus gatvė 37\, Klaipėda\, LT-92101\, Lithuania
ATTACH;FMTTYPE=image/jpeg:https://www.bimt.lt/wp-content/uploads/2025/07/509421777_1206728901251699_5297856911107059404_n.jpg
END:VEVENT
END:VCALENDAR