BEGIN:VCALENDAR
VERSION:2.0
PRODID:-// - ECPv6.15.19//NONSGML v1.0//EN
CALSCALE:GREGORIAN
METHOD:PUBLISH
X-ORIGINAL-URL:https://www.bimt.lt
X-WR-CALDESC: renginiai
REFRESH-INTERVAL;VALUE=DURATION:PT1H
X-Robots-Tag:noindex
X-PUBLISHED-TTL:PT1H
BEGIN:VTIMEZONE
TZID:UTC
BEGIN:STANDARD
TZOFFSETFROM:+0000
TZOFFSETTO:+0000
TZNAME:UTC
DTSTART:20250101T000000
END:STANDARD
END:VTIMEZONE
BEGIN:VEVENT
DTSTART;TZID=UTC:20260822T103000
DTEND;TZID=UTC:20260822T160000
DTSTAMP:20260419T204601
CREATED:20260304T144313Z
LAST-MODIFIED:20260304T145254Z
UID:1293-1787394600-1787414400@www.bimt.lt
SUMMARY:Vievio taurė
DESCRIPTION:Baidarių maratonas – „Vievio taurė 2026“ nuostatai\n\n\nTIKSLAS IR UŽDAVINIAI\n\n\nPopuliarinti irklavimą kaip sportą\, laisvalaikį ir sveiką gyvenimo būdą.\nĮtraukti į plaukimą buvusius sportininkus irkluotojus\, pradedančiuosius mėgėjus bei vietos bendruomenę.\nNustatyti pajėgiausius irkluotojus atskirose sportininkų ir mėgėjų grupėse.\nSiekti\, kad ateityje šis maratonas „Vievio taurė“ taptų tradicine irkluotojų švente.\n\n\n SĄVOKOS\n\n\n„Vievio taurė“ – tai naujas Baidarių irklavimo mėgėjų taurės (toliau – BIMT) etapas\, kuris skiriasi nuo kitų tuo\, kad varžybos vyksta ežere.\n\n\n LAIKAS IR VIETA\n\n\nMaratonas vyks 2026 m. rugpjūčio 22 d. nuo 11.00 val. iki 16.00 val. Vievio ežere.\n\n\nDalyviai atvyksta į Vievio ežero pakrantę adresu:\n Kranto g. 40\, Vievis\,\nnuo kur bus duodamas varžybų startas.\n\n\nMARATONO DALYVIAI IR VYKDYMO TVARKA\n Turistinė grupė\n\n\nDalyviai\, irkluojantys organizatorių suteiktomis dvivietėmis baidarėmis.\n\n\nPogrupiai:\n• dvivietė vyrų (registracijos laukelyje – K2 Tourist dvivietė vyrų)\n• dvivietė moterų (registracijos laukelyje – K2 dvivietė moterų)\n• dvivietė mišri (registracijos laukelyje – K2 dvivietė mišri)\n\n\nTrasa: 8 km\n(vienas ratas aplink ežerą)\n\n\nApdovanojimai:\n Kiekvieno pogrupio pirmos trys prizinės vietos apdovanojamos taurėmis ir medaliais.\n Visi kiti dalyviai apdovanojami atminimo medaliais.\n\n\n Turistinės grupės dalyviai BIMT’o taurėje nedalyvauja ir įskaitinių taškų negauna.\n\n\n Sportininkų grupė\n\n\nDalyviai\, irkluojantys savo atsivežtomis baidarėmis\, kurios neskirstomos pagal pločio ar ilgio parametrus.\n\n\nPogrupiai:\n• vienvietė vyrų (registracijos laukelyje – K1 Elite vienvietė vyrų)\n• vienvietė moterų (registracijos laukelyje – K1 Elite moterų)\n• dvivietė vyrų (registracijos laukelyje – K2 Elite dvivietė vyrų)\n• dvivietė moterų (registracijos laukelyje – K2 dvivietė moterų)\n• dvivietė mišri (registracijos laukelyje – dvivietė mišri)\n\n\nStartas:\n 50 m bėgimas nuo ežero kranto iki savo baidarės.\n\n\nTrasa: 24 km\n(trys ratai aplink ežerą)\n\n\nPo pirmo ir antro rato sportininkams reikės išlipti į krantą ir persinešti baidares.\n\n\nPersinešimo trasos ilgis: 50 m\n(trasa bus pažymėta apsaugine juosta)\n\n\nApdovanojimai:\n Kiekvieno pogrupio pirmos trys komandos\, greičiausiai įveikusios trasą\, apdovanojamos taurėmis ir atminimo medaliais.\n Kiti dalyviai apdovanojami atminimo medaliais.\n\n\n Finišo laikas\n\n\nTuristinės grupės dalyviams – įveikus vieną ratą.\nSportininkų grupės dalyviams – įveikus tris ratus.\n\n\n Trasos įveikimo laikas\n\n\nLaiko tarpas tarp starto ir finišo laikų.\n\n\n Plaukimo priemonė\n\n\nTik fizine jėga vandens paviršiumi plaukianti vandens priemonė.\n\n\n Dalyvio mokestis\n\n\n15 € / asmeniui (registruojantis iki 2026-08-10)\n20 € / asmeniui (registruojantis po 2026-08-10)\n25 € / asmeniui (registruojantis varžybų dieną)\n\n\nMokėjimas pavedimu:\nVievio irkluotojų asociacija „Super life“\nSąskaita Nr. LT937044090109904321 (SEB)\n\n\nMokėjimo paskirtis:\n„Dalyvio mokestis“ + bent vieno įgulos nario vardas ir pavardė\n\n\nĮgulai neatvykus į startą\, dalyvio mokestis negrąžinamas.\n\n\nREGISTRACIJA\n\n\nRegistruotis galima organizatorių nurodytu laikotarpiu.\nRegistruojantis vėliau\, mokestis kils.\n\n\nTuristinės grupės baidarių skaičius ribotas\, todėl registracija gali būti sustabdyta.\n\n\nRegistracija įsigalioja organizatoriams gavus mokėjimo pavedimą.\n\n\nSAUGUMO REIKALAVIMAI\n\n\nVievio ežeras gali būti ir ramus\, ir banguotas\, vietomis gilus.\n\n\n Visi dalyviai privalo dėvėti gelbėjimo liemenes\n Pasirūpinti tinkama apranga pagal oro sąlygas\n\n\nĮgulos nariai prisiima asmeninę atsakomybę už savo sveikatos būklę ir saugų elgesį vandenyje bei krante.\n\n\n\n\n\nDaugiau informacijos FB\n\n\n\n\n\n\n  \nViews: 16
URL:https://www.bimt.lt/event/vievio-taure/
CATEGORIES:Renginiai
ATTACH;FMTTYPE=image/jpeg:https://www.bimt.lt/wp-content/uploads/2026/02/Vievio-taure.jpg
END:VEVENT
END:VCALENDAR