BEGIN:VCALENDAR
VERSION:2.0
PRODID:-// - ECPv6.15.19//NONSGML v1.0//EN
CALSCALE:GREGORIAN
METHOD:PUBLISH
X-ORIGINAL-URL:https://www.bimt.lt
X-WR-CALDESC: renginiai
REFRESH-INTERVAL;VALUE=DURATION:PT1H
X-Robots-Tag:noindex
X-PUBLISHED-TTL:PT1H
BEGIN:VTIMEZONE
TZID:UTC
BEGIN:STANDARD
TZOFFSETFROM:+0000
TZOFFSETTO:+0000
TZNAME:UTC
DTSTART:20250101T000000
END:STANDARD
END:VTIMEZONE
BEGIN:VEVENT
DTSTART;TZID=UTC:20260919T090000
DTEND;TZID=UTC:20260919T190000
DTSTAMP:20260419T202200
CREATED:20250919T063701Z
LAST-MODIFIED:20260227T210537Z
UID:600-1789808400-1789844400@www.bimt.lt
SUMMARY:Ūlos maratonas
DESCRIPTION:   \n \nŪLOS MARATONAS KVIEČIA! \n\nVaržybos vyks 2025 m. rugsėjo 20 dieną Ūlos upe\, maršrutu Kašėtos (Kaniavos sen.) – Trakiškių poilsiavietė\, turistinėmis vienvietėmis ir dvivietėmis baidarėmis mišrių dalyvių\, vyrų ir moterų grupėse. Renginyje gali dalyvauti visi norintys\, užpildę paraišką ir sumokėję dalyvio mokestį. Neturintiems baidarių bus sudaryta galimybė jas išsinuomoti starto vietoje.\nNorintys išsinuomoti baidares iš anksto apie tai informuoja varžybų organizatorius\, Varėnos keliautojų klubą „Via Est Vita“ elektroniniu paštu info@viaestvita.lt arba varžybų vyr. teisėją Arnoldą Butkų (tel. +37067251902) ir praveda išankstinį apmokėjimą (30 EUR už baidarę) i Viešosios įstaigos „Via Est Vita“ (įmonės kodas 301697046) sąskaitą Nr. LT727300010107854321.\n\nDėl išankstinės registracijos ir visais dominančiais klausimais\nkreipkitės į keliautojų klubą „Via Est Vita“ el. paštu info@viaestvita.lt arba į varžybų vyr. teisėją Arnoldą Butkų (tel. +370 672 51902). Atvykimo adresas: Kašėtų kaimas\, Kaniavos sen.\,\nVarėnos r. (54.091837\, 24.594746)\n\n\n\nVisus varžybų dalyvius\, jų šeimų narius\, stovyklavietės svečius vaišinsime grybų sriuba\, stipruolių koše\, arbata ir šildančiais gėrimais. Tačiau\, prisilaikant ES direktyvos dėl tam tikrų\nplastikinių gaminių poveikio aplinkai mažinimo\, maloniai prašome Jūsų į maratoną atsivežti individualius indus ir maitinimosi įrankius: dubenėlius ir šaukštus sriubai bei košei\, puodelius ar stiklinaites šiltiems ir šildantiems gėrimams.\n\n\n\n„Via Est Vita“ organizacinis komitetas\n\nViews: 16
URL:https://www.bimt.lt/event/ulos-maratonas/
LOCATION:54.09171803785012\, 24.594827910945877\, Kašėtų k. Kaniavos sen.
CATEGORIES:Renginiai
ATTACH;FMTTYPE=image/png:https://www.bimt.lt/wp-content/uploads/2025/09/image-removebg-preview-1.png
ORGANIZER;CN="Via Est Vita":MAILTO:info@viaestvita.lt
END:VEVENT
END:VCALENDAR