BEGIN:VCALENDAR
VERSION:2.0
PRODID:-// - ECPv6.15.19//NONSGML v1.0//EN
CALSCALE:GREGORIAN
METHOD:PUBLISH
X-ORIGINAL-URL:https://www.bimt.lt
X-WR-CALDESC: renginiai
REFRESH-INTERVAL;VALUE=DURATION:PT1H
X-Robots-Tag:noindex
X-PUBLISHED-TTL:PT1H
BEGIN:VTIMEZONE
TZID:UTC
BEGIN:STANDARD
TZOFFSETFROM:+0000
TZOFFSETTO:+0000
TZNAME:UTC
DTSTART:20250101T000000
END:STANDARD
END:VTIMEZONE
BEGIN:VEVENT
DTSTART;TZID=UTC:20260606T080000
DTEND;TZID=UTC:20260606T180000
DTSTAMP:20260419T163024
CREATED:20240328T081608Z
LAST-MODIFIED:20260305T080706Z
UID:492-1780732800-1780768800@www.bimt.lt
SUMMARY:Merkio maratonas
DESCRIPTION:Merkio maratonas – tai 32 kilometrų irklavimo iššūkis tau! Baidarių\, kanojų\, irklenčių entuziastai\, mėgėjai renkasi\, kad nugalėtų savo EGO ir mestų iššūkį iki šiol nesumuštam 2008m rezultatui 2val 3min. 57s \n\n\n\n\n\nSkelbiame atnaujintus lenktynių nuostatus. Juose įtvirtiname supaprastintą starto tvarką\, kuomet klasės startuoja pagal iš anksto numatytą laiką bendruose startuose. Startai bus skelbiami kas dvi minutes. Pernai metų graži patirtis\, kuomet į Turist klasę beveik visos įgulos atsivežė savo laivus\, paskatino vieną iš esminių pasikeitimų – Turist klasėje startuojama tik su nuosavais laivais. Nuomoti laivai\, siekiant suvienodinti galimybes kovoti dėl prizų\, varžysis naujoje Turist Rent klasėje. Registruojantis būtina iš karto rezervuoti laivą\, kad žinotume jų poreikį. Labai prašome registruotis kuo anksčiau\, nes vasarą nuomojamų laivų kiekis gali būti ribotas. Dar viena naujovė – Turist Rent klasėje dalyvauja tik dvivietės įgulos ir jos kol kas neskirstomos pagal irkluotojų lytį\, amžių. Pakvieskite draugus\, drauges\, kolegas\, gimines ar priešus (puiki proga susitaikyti) ir kartu patirkime šventę. \n\n\nREGISTRACIJOS FORMA \n\nLIETUVOS VANDENS TURIZMO MARATONO „MERKYS – 2026“ NUOSTATAI\nLIETUVOS VANDENS TURIZMO MARATONO „MERKYS – 2026“ NUOSTATAI (Anglų k.)\n\n\n\nDaugiau informacijos ieškokite www.merkiomaratonas.lt arba FB puslapyje \n\nViews: 16
URL:https://www.bimt.lt/event/merkio-maratonas/
CATEGORIES:Renginiai
ATTACH;FMTTYPE=image/png:https://www.bimt.lt/wp-content/uploads/2024/03/image-removebg-preview-5.png
END:VEVENT
BEGIN:VEVENT
DTSTART;TZID=UTC:20260623T110000
DTEND;TZID=UTC:20260624T170000
DTSTAMP:20260419T163024
CREATED:20240324T092508Z
LAST-MODIFIED:20260305T133730Z
UID:113-1782212400-1782320400@www.bimt.lt
SUMMARY:Joninių 24 valandų lenktynės baidarėmis
DESCRIPTION:REGISTRACIJA ČIA!\nJoninių 24 valandų lenktynės baidarėmis 2026\nTai ištvermės irklavimo varžybos\, skirtos sportiškiems\, patyrusiems ir motyvuotiems dalyviams\, pasiruošusiems 24 valandų fiziniam ir psichologiniam išbandymui. Renginys vyksta kas dvejus metus.\n\n Varžybų tikslas paprastas\, bet ne lengvas – per 24 valandas baidare įveikti kuo didesnį atstumą. Čia viską lemia taktika\, fizinis ir psichologinis pasiruošimas bei atkaklumas.\n\n Startas – Baltųjų Lakajų ežere\, birželio 23 d. Nuo čia dalyviai leidžiasi į unikalią kelionę per Joninių naktį: per vaizdingą Labanorų girią\, laužų šviesų nušviestomis Lakajos\, Žeimenos ir Neries upėmis. Nėra finišo linijos – yra laikas\, kuris baigiasi po 24 valandų.\n\n Individualūs startai reiškia\, kad intriga išlieka iki pat finišo – niekada nežinai\, ar anksčiau ar vėliau startavęs varžovas neįveiks didesnio atstumo.Starto laikai nustatomi burtų keliu likus savaitei iki varžybų\, o „222“ grupės dalyviai savo starto laiką pasirenka patys registracijos metu.\n\n Tai visiškai autonominis plaukimas – visus 24 valandoms reikalingus resursus dalyviai planuoja ir gabena patys. Bet kokia pagalba iš šalies draudžiama.\n\n Dalyvių buvimo vieta trasoje fiksuojama GPS siųstuvais\, todėl visą renginį bus galima stebėti realiu laiku internetu.\n\n Rezultatai fiksuojami šiose grupėse:• K1 WOM – vienvietės baidarės (moterys)• K1 MEN – vienvietės baidarės (vyrai)• K2 WOM – dvivietės baidarės (moterys)• K2 MEN – dvivietės baidarės (vyrai)• K2 MIX – dvivietės baidarės (moteris ir vyras)\n\n Visi dalyviai bus apdovanoti atminimo medaliais ir diplomais\, o kiekvienos grupės pirmų trijų vietų nugalėtojai – papildomais prizais. Po finišo visų lauks karštas maistas ir apdovanojimų ceremonija.\n\n Jonams ir Janinoms – startinis mokestis 0 €!\n\n Datos:• Nuostatai – iki 2026 m. vasario 28 d.• Registracijos pradžia – 2026 m. kovo 1 d.• Registracijos pabaiga – 2026 m. gegužės 31 d.• Lenktynių startas – 2026 m. birželio 23 d.\, nuo 12:00 iki 15:00\n\n Jei ieškai iššūkio\, kuris sujungia gamtą\, ištvermę ir Joninių magiją – šios lenktynės kaip tik tau.\n\n\nVisa informacija apie renginį – https://www.facebook.com/profile.php?id=100090214375075\n\n    \n        \n            \n            \n        \n        \n    \n\n\nViews: 16
URL:https://www.bimt.lt/event/joniniu-24-valandu-lenktynes-baidaremis/
LOCATION:55.21083\, 25.53268\, Stovyklavietė "Rudesa"\, prie Baltųjų Lakajų ežero
CATEGORIES:Renginiai
ATTACH;FMTTYPE=image/png:https://www.bimt.lt/wp-content/uploads/2024/03/vaizdas_2024-03-25_143742223.png
ORGANIZER;CN="V%C5%A1%C4%AE J%C5%ABrin%C4%97 baidar%C4%97":MAILTO:jurinebaidare@gmail.com
END:VEVENT
END:VCALENDAR