BEGIN:VCALENDAR
VERSION:2.0
PRODID:-// - ECPv6.15.19//NONSGML v1.0//EN
CALSCALE:GREGORIAN
METHOD:PUBLISH
X-ORIGINAL-URL:https://www.bimt.lt
X-WR-CALDESC: renginiai
REFRESH-INTERVAL;VALUE=DURATION:PT1H
X-Robots-Tag:noindex
X-PUBLISHED-TTL:PT1H
BEGIN:VTIMEZONE
TZID:UTC
BEGIN:STANDARD
TZOFFSETFROM:+0000
TZOFFSETTO:+0000
TZNAME:UTC
DTSTART:20250101T000000
END:STANDARD
END:VTIMEZONE
BEGIN:VEVENT
DTSTART;TZID=UTC:20260516T073000
DTEND;TZID=UTC:20260516T200000
DTSTAMP:20260419T151443
CREATED:20240324T092213Z
LAST-MODIFIED:20260325T092353Z
UID:109-1778916600-1778961600@www.bimt.lt
SUMMARY:Šventosios maratonas
DESCRIPTION:ŠVENTOSIOS IRKLAVIMO MARATONAS 2026 \nPasiruoškite vienam didžiausių metų iššūkiui vandenyje! 2026-aisiais gegužės 16 dieną susitinkame Šventosios upėje – ilgiausioje upėje\, kuri teka tik per Lietuvą. Laukia vaizdingi krantai\, srauni vaga ir nepamirštami įspūdžiai Šimonių girios apsuptyje.\n\nPasirinkite savo iššūkį:\n\n\n MARATONO DISTANCIJA: 32 KM \nMėgstantiems greitį ir įspūdingus vaizdus!\n• Startas: 12:00 val. kontrolinis laikas – 6 val.\n• Vieta: Mickūnų tiltas https://maps.app.goo.gl/sGAMnfEE137oRLxk8\n• Maršrutas: Pati gražiausia upės dalis\, vingiuojanti per Šimonių girios gilumą.\n• Plaukimo priemonės skirstomos į klases *\n\n\n IŠŠŪKIO DISTANCIJA: 90 KM\nTikriems ištvermės profesionalams!\n• Startas: 08:00 val. kontrolinis laikas – 14 valandų;\n• Vieta: Kalbutiškių kaimas ( tiltas per Šventąją ) https://maps.app.goo.gl/Pv1N4bAipiU8NZvK9\n• Svarbu: Užpalių HE užtvanka (laukia ~50 m baidarių persinešimas).\n• Plaukimo priemonės į klases neskirstomos\n________________________________________\n KĄ PAMATYSITE PLAUKDAMI?\nŠis maratonas – tai ne tik varžybos\, bet ir pažintis su unikalia gamta:\n Mikierių atodanga – įspūdingas 20 m aukščio skardis ir 180 laipsnių upės kilpa.\n Mikierių kabantis tiltas – 80 m ilgio inžinerinis statinys virš vandens.\n Lašinių rėva – dozė adrenalino kiekvienam plaukikui.\n Magylų malūno liekanos – istorinis akcentas jūsų maršrute.\n________________________________________\n FINIŠAS\nAbiejų distancijų dalyvių laukiame stovyklavietėje „Niūronys“.\n Finišo vieta žemėlapyje https://maps.app.goo.gl/Mirv4UmPULoG2qcC8\n\nVaržybų akimirkų užfiksavimu pasirūpins: https://www.facebook.com/bekere.lt\n\n\n\n\nVisi dalyviai bus apdovanoti atminimo medaliais\, taip pat papildomai apdovanojami 32 km maratono distancijos klasių nugalėtojai ir 90 kilometrų iššūkio distancijos pirmų trijų vietų nugalėtojai\n!!! Visi dalyviai pasiekę finišą dalyvauja loterijoje kurios pagrindinis prizas sportinis baidarės irklas ZJ!\n\nRegistracija iki vyksta iki gegužės 4 dienos :https://forms.gle/VZEoyGXmNYSBp2o1A\nDalyvio mokestis 1 asmeniui: 35 EUR\n\nSIAURES TURAS VSIEUR LT687290099084570800\n\n\n\n\nDaugiau informacijos FB\nViews: 16
URL:https://www.bimt.lt/event/sventosios-maratonas/
LOCATION:Mickūnų tiltas \, Anyksciai\, Lithuania\, Mickūnų tiltas \, Anyksciai\, Lithuania\, Anykščiai\, Lithuania
CATEGORIES:Renginiai
ATTACH;FMTTYPE=image/jpeg:https://www.bimt.lt/wp-content/uploads/2024/03/Sventosios-maratonas.jpg
ORGANIZER;CN="Mantas Bekeris":MAILTO:mantas5400@gmail.com
END:VEVENT
BEGIN:VEVENT
DTSTART;TZID=UTC:20260522T000000
DTEND;TZID=UTC:20260523T000000
DTSTAMP:20260419T151443
CREATED:20250225T163040Z
LAST-MODIFIED:20260325T090807Z
UID:987-1779408000-1779494400@www.bimt.lt
SUMMARY:Žaslių 12 val. baidarių irklavimo varžybos
DESCRIPTION:Daugiau informacijos: www.aplinkzasliuezera.lt\n\n\n Klausimai: +370 640 12 560 |  zasliai.lt@gmail.com\n\n\n\n  \nViews: 16
URL:https://www.bimt.lt/event/zasliu-12val-baidariu-irklavimo-varzybos/
LOCATION:Žasliai
CATEGORIES:Renginiai
ATTACH;FMTTYPE=image/jpeg:https://www.bimt.lt/wp-content/uploads/2025/02/3.jpg
END:VEVENT
BEGIN:VEVENT
DTSTART;TZID=UTC:20260529T190000
DTEND;TZID=UTC:20260530T130000
DTSTAMP:20260419T151443
CREATED:20240324T092315Z
LAST-MODIFIED:20260227T192623Z
UID:111-1780081200-1780146000@www.bimt.lt
SUMMARY:Naktinės Verknės lenktynės K.Aleknos taurei laimėti
DESCRIPTION:Iki Naktinių Verknės lenktynių liko:\n[  \n\nUpė: Verknė (Aukštadvaris – Pikelionys\, 41 km)\nData ir lenktynių starto laikas: 2026 05 29 d. 20 val.\nKaina: 25 eu/žmogui\n\n\nVisus mirtinguosius registruotis kviečiame ČIA!\n(Nesiregistruoti ir dalyvauti lenktynėse\, kaip ir anksčiau gali tik Blėda\, bo anas tai užsitarnavo yra kietas\, nemirtingas ir nelabai draugauja su tais visokiais internetais  )\n\n\n\n\nKur ir kada atvykti: renkamės „Upių labirinto” stovyklavietėje https://maps.app.goo.gl/xDmM1TPL5ouEFpfP9 nuo 17 val.\n\nStovyklavietėje Jūs galėsite saugiai palikti automobilius ir pasistatyti palapines (galite užsisakyti ir 4/5 miegamų vietų namelius\, namelio kaina 50 eu) . Kai būsite pasiruošę\, nuvešime Jus į lenktynių startą. Finišavus Jūsų lauks iškūrentas kubilas\, pirtis ir neišsenkantis įspūdžių aptarimas prie laužo.\n\n\n\nPrizai:\nnesvarbu ar būsite pirmas ar paskutinis\, vis tiek galėsite ištraukti iš kepurės\, mūsų mieliausių rėmėjų „Traversas.lt” ir mūsų suraitytą lapelį su užrašu: „ciklopas\, kuprinė\, turistinis šaukštas\, miegmaišis ar palapinė…\nMes labiausiai Jus gerbiame\, dėl to\, kad pakilote nuo sofos ir esate čia !\nTaurė\, be abejo\, Gerb. Čempionams\, o medaliai – Prizininkams.\n\n\n\nTaisyklės:\nvisi varžybų dalyviai plaukia baidarėmis „Vista” (galima turėti savo irklus). varžomasi bendrojoje\, mišriojoje (vyrų/moterų) ir moterų klasėse\, dalyviai privalo dėvėti gelbėjimosi liemenes\, draudžiama kirsti upės kilpas persinešant baidarę.\n\n\n\nAvarinis „nusiėmimas” nuo lenktynių:\njei pajusite\, kad šalta\, silpna\, bloga ar šiaip „ne Jūsų diena”\, lenktynių viduryje\, ties Vydžionių tiltu\, galime Jus paimti ir parvežti atgal į finišą.\n\n\n\nSriuba:\nties tuo pačiu\, aukščiau minėtu\, Vydžionių tiltu\, Jūsų lauks mūsų pagalbininkai su dubenėliu karštos sriubos. Skanaus \n\n\n\nSVARBU !\n\nNaktinės Verknės lenktynės\, K. Aleknos taurei laimėti\, taip pat yra ir sudėtinė garbingos kompanijos:\nBaidarių irklavimo mėgėjų taurė (BIMT) dalis. Už kurias galite gauti belenkiek taškų į savo taupyklę\nRegistruotis varžyboms ir užsisakyti baidares galite ČIA\nVisas naujienas sekite mūsų FB\n\nLabai laukiame Jūsų\, švęskime Upę kartu !\n\n\n\nViews: 16
URL:https://www.bimt.lt/event/naktines-verknes-lenktynes-k-aleknos-taurei-laimeti/
LOCATION:54.57837783894322\, 24.235299693254447\, Pikelionių k.\, Prienų r.\, 59374\, Lietuva
CATEGORIES:Renginiai
ATTACH;FMTTYPE=image/png:https://www.bimt.lt/wp-content/uploads/2024/03/vaizdas_2025-01-21_151243002.png
ORGANIZER;CN="Upi%C5%B3 labirintas":MAILTO:info@upiu-labirintas.lt
END:VEVENT
END:VCALENDAR